<?xml version="1.0" encoding="UTF-8" standalone="no"?>
<metadata xml:lang="en">
<Esri>
<CreaDate>20150903</CreaDate>
<CreaTime>09361600</CreaTime>
<ArcGISFormat>1.0</ArcGISFormat>
<ArcGISstyle>FGDC CSDGM Metadata</ArcGISstyle>
<SyncOnce>FALSE</SyncOnce>
<DataProperties>
<itemProps>
<itemName Sync="TRUE">sde_image.DBO.ORTHO_2014_4in</itemName>
<imsContentType Sync="TRUE">002</imsContentType>
<nativeExtBox>
<westBL Sync="TRUE">557281.283461</westBL>
<eastBL Sync="TRUE">573845.266023</eastBL>
<southBL Sync="TRUE">4184563.738199</southBL>
<northBL Sync="TRUE">4196903.082755</northBL>
<exTypeCode Sync="TRUE">1</exTypeCode>
</nativeExtBox>
<itemLocation>
<linkage Sync="TRUE">Server=cobsdev2; Service=sde:sqlserver:cobsdev2; Database=sde_image; Version=dbo.DEFAULT</linkage>
<protocol Sync="TRUE">ArcSDE Connection</protocol>
</itemLocation>
</itemProps>
<coordRef>
<type Sync="TRUE">Projected</type>
<geogcsn Sync="TRUE">GCS_WGS_1984</geogcsn>
<csUnits Sync="TRUE">Linear Unit: Meter (1.000000)</csUnits>
<projcsn Sync="TRUE">WGS_1984_UTM_Zone_10N</projcsn>
<peXml Sync="TRUE">&lt;ProjectedCoordinateSystem xsi:type='typens:ProjectedCoordinateSystem' xmlns:xsi='http://www.w3.org/2001/XMLSchema-instance' xmlns:xs='http://www.w3.org/2001/XMLSchema' xmlns:typens='http://www.esri.com/schemas/ArcGIS/10.4'&gt;&lt;WKT&gt;PROJCS[&amp;quot;WGS_1984_UTM_Zone_10N&amp;quot;,GEOGCS[&amp;quot;GCS_WGS_1984&amp;quot;,DATUM[&amp;quot;D_WGS_1984&amp;quot;,SPHEROID[&amp;quot;WGS_1984&amp;quot;,6378137.0,298.257223563]],PRIMEM[&amp;quot;Greenwich&amp;quot;,0.0],UNIT[&amp;quot;Degree&amp;quot;,0.0174532925199433]],PROJECTION[&amp;quot;Transverse_Mercator&amp;quot;],PARAMETER[&amp;quot;False_Easting&amp;quot;,500000.0],PARAMETER[&amp;quot;False_Northing&amp;quot;,0.0],PARAMETER[&amp;quot;Central_Meridian&amp;quot;,-123.0],PARAMETER[&amp;quot;Scale_Factor&amp;quot;,0.9996],PARAMETER[&amp;quot;Latitude_Of_Origin&amp;quot;,0.0],UNIT[&amp;quot;Meter&amp;quot;,1.0],AUTHORITY[&amp;quot;EPSG&amp;quot;,32610]]&lt;/WKT&gt;&lt;XOrigin&gt;-5120900&lt;/XOrigin&gt;&lt;YOrigin&gt;-9998100&lt;/YOrigin&gt;&lt;XYScale&gt;450445547.3910538&lt;/XYScale&gt;&lt;ZOrigin&gt;-100000&lt;/ZOrigin&gt;&lt;ZScale&gt;10000&lt;/ZScale&gt;&lt;MOrigin&gt;-100000&lt;/MOrigin&gt;&lt;MScale&gt;10000&lt;/MScale&gt;&lt;XYTolerance&gt;0.001&lt;/XYTolerance&gt;&lt;ZTolerance&gt;0.00020000000000000001&lt;/ZTolerance&gt;&lt;MTolerance&gt;0.00020000000000000001&lt;/MTolerance&gt;&lt;HighPrecision&gt;true&lt;/HighPrecision&gt;&lt;WKID&gt;32610&lt;/WKID&gt;&lt;LatestWKID&gt;32610&lt;/LatestWKID&gt;&lt;/ProjectedCoordinateSystem&gt;</peXml>
</coordRef>
<RasterProperties>
<General>
<PixelDepth Sync="TRUE">8</PixelDepth>
<HasColormap Sync="TRUE">FALSE</HasColormap>
<CompressionType Sync="TRUE">LZW</CompressionType>
<NumBands Sync="TRUE">3</NumBands>
<Format Sync="TRUE">TIFF</Format>
<HasPyramids Sync="TRUE">TRUE</HasPyramids>
<SourceType Sync="TRUE">continuous</SourceType>
<PixelType Sync="TRUE">unsigned integer</PixelType>
<NoDataValue Sync="TRUE">256</NoDataValue>
</General>
</RasterProperties>
<lineage>
<Process Date="20190508" Time="082703" ToolSource="c:\program files (x86)\arcgis\desktop10.5\ArcToolbox\Toolboxes\Data Management Tools.tbx\ChangePrivileges">ChangePrivileges C:\VESTRA_Install\SDE_Connections\cobgisbev1.SDE_Image.GIS.sde\sde_image.DBO.SHADE_200305051742;C:\VESTRA_Install\SDE_Connections\cobgisbev1.SDE_Image.GIS.sde\sde_image.DBO.SHADE_20060701_30CM;C:\VESTRA_Install\SDE_Connections\cobgisbev1.SDE_Image.GIS.sde\sde_image.DBO.SHADE_290_18_7M8B;C:\VESTRA_Install\SDE_Connections\cobgisbev1.SDE_Image.GIS.sde\sde_image.DBO.SHADE_ALCO_290_11;C:\VESTRA_Install\SDE_Connections\cobgisbev1.SDE_Image.GIS.sde\sde_image.DBO.SHADE_DEM7M_315_45;C:\VESTRA_Install\SDE_Connections\cobgisbev1.SDE_Image.GIS.sde\sde_image.DBO.SURF100_20060222;C:\VESTRA_Install\SDE_Connections\cobgisbev1.SDE_Image.GIS.sde\sde_image.DBO.SURF100_20060222_NAD83;C:\VESTRA_Install\SDE_Connections\cobgisbev1.SDE_Image.GIS.sde\sde_image.DBO.SWR50_20070227;C:\VESTRA_Install\SDE_Connections\cobgisbev1.SDE_Image.GIS.sde\sde_image.DBO.TOB_ENGR_1900;C:\VESTRA_Install\SDE_Connections\cobgisbev1.SDE_Image.GIS.sde\sde_image.DBO.U_1993_98_DOQ12K;C:\VESTRA_Install\SDE_Connections\cobgisbev1.SDE_Image.GIS.sde\sde_image.DBO.U84_TOPO15_1895_1897_3500PX;C:\VESTRA_Install\SDE_Connections\cobgisbev1.SDE_Image.GIS.sde\sde_image.DBO.UCB_SOULE_1875;C:\VESTRA_Install\SDE_Connections\cobgisbev1.SDE_Image.GIS.sde\sde_image.DBO.USCS_NO25_1856;C:\VESTRA_Install\SDE_Connections\cobgisbev1.SDE_Image.GIS.sde\sde_image.DBO.USCS_NO6_1852;C:\VESTRA_Install\SDE_Connections\cobgisbev1.SDE_Image.GIS.sde\sde_image.DBO.USCS_NO621_1859;C:\VESTRA_Install\SDE_Connections\cobgisbev1.SDE_Image.GIS.sde\sde_image.DBO.USGS_DRG24K_TOPO;C:\VESTRA_Install\SDE_Connections\cobgisbev1.SDE_Image.GIS.sde\sde_image.DBO.USGS_MF2378_2379_LINEAR;C:\VESTRA_Install\SDE_Connections\cobgisbev1.SDE_Image.GIS.sde\sde_image.DBO.USGS_MF2385_LOG2;C:\VESTRA_Install\SDE_Connections\cobgisbev1.SDE_Image.GIS.sde\sde_image.DBO.USGS_OF02_296_LQF_5M;C:\VESTRA_Install\SDE_Connections\cobgisbev1.SDE_Image.GIS.sde\sde_image.DBO.USGS_OF02_296_VS30_30M;C:\VESTRA_Install\SDE_Connections\cobgisbev1.SDE_Image.GIS.sde\sde_image.DBO.USGS_OF98_766_SLOPE_30M;C:\VESTRA_Install\SDE_Connections\cobgisbev1.SDE_Image.GIS.sde\sde_image.DBO.USGS_TOPO_O37122G2;C:\VESTRA_Install\SDE_Connections\cobgisbev1.SDE_Image.GIS.sde\sde_image.DBO.USGS_TOPO_O37122G3;C:\VESTRA_Install\SDE_Connections\cobgisbev1.SDE_Image.GIS.sde\sde_image.DBO.USGS_TOPO_O37122H2;C:\VESTRA_Install\SDE_Connections\cobgisbev1.SDE_Image.GIS.sde\sde_image.DBO.USGS_TOPO_O37122H3;C:\VESTRA_Install\SDE_Connections\cobgisbev1.SDE_Image.GIS.sde\sde_image.DBO.SHADE_060_25;C:\VESTRA_Install\SDE_Connections\cobgisbev1.SDE_Image.GIS.sde\sde_image.DBO.PGE_OVRHEAD_200507;C:\VESTRA_Install\SDE_Connections\cobgisbev1.SDE_Image.GIS.sde\sde_image.DBO.PGE_ELECTROLIER_200507;C:\VESTRA_Install\SDE_Connections\cobgisbev1.SDE_Image.GIS.sde\sde_image.DBO.PAN15CM_19991114;C:\VESTRA_Install\SDE_Connections\cobgisbev1.SDE_Image.GIS.sde\sde_image.DBO.PAN15CM_19960816;C:\VESTRA_Install\SDE_Connections\cobgisbev1.SDE_Image.GIS.sde\sde_image.DBO.ORTHO_2017_3in;C:\VESTRA_Install\SDE_Connections\cobgisbev1.SDE_Image.GIS.sde\sde_image.DBO.ORTHO_2014_4in_L2CAL3F83;C:\VESTRA_Install\SDE_Connections\cobgisbev1.SDE_Image.GIS.sde\sde_image.DBO.ORTHO_2014_4in;C:\VESTRA_Install\SDE_Connections\cobgisbev1.SDE_Image.GIS.sde\sde_image.DBO.ORTHO_20110420_RGB30CM_NAD83;C:\VESTRA_Install\SDE_Connections\cobgisbev1.SDE_Image.GIS.sde\sde_image.DBO.ORTHO_20110420_RGB30CM;C:\VESTRA_Install\SDE_Connections\cobgisbev1.SDE_Image.GIS.sde\sde_image.DBO.ORTHO_20090630_RGB30CM_NAD83;C:\VESTRA_Install\SDE_Connections\cobgisbev1.SDE_Image.GIS.sde\sde_image.DBO.ORTHO_20090630_RGB30CM;C:\VESTRA_Install\SDE_Connections\cobgisbev1.SDE_Image.GIS.sde\sde_image.DBO.ORTHO_20060701_RGB10CM;C:\VESTRA_Install\SDE_Connections\cobgisbev1.SDE_Image.GIS.sde\sde_image.DBO.ORTHO_200507_RGB100CM;C:\VESTRA_Install\SDE_Connections\cobgisbev1.SDE_Image.GIS.sde\sde_image.DBO.ORTHO_20031025_RGB30CM;C:\VESTRA_Install\SDE_Connections\cobgisbev1.SDE_Image.GIS.sde\sde_image.DBO.DigitalGlobe20140101_tif;C:\VESTRA_Install\SDE_Connections\cobgisbev1.SDE_Image.GIS.sde\sde_image.DBO.FIRM_1978_90CM;C:\VESTRA_Install\SDE_Connections\cobgisbev1.SDE_Image.GIS.sde\sde_image.DBO.KELLERSBERGER_1857;C:\VESTRA_Install\SDE_Connections\cobgisbev1.SDE_Image.GIS.sde\sde_image.DBO.KROPP_LS_1995;C:\VESTRA_Install\SDE_Connections\cobgisbev1.SDE_Image.GIS.sde\sde_image.DBO.LANDUSE_1976_8CM;C:\VESTRA_Install\SDE_Connections\cobgisbev1.SDE_Image.GIS.sde\sde_image.DBO.LULC_Classification2014JAN;C:\VESTRA_Install\SDE_Connections\cobgisbev1.SDE_Image.GIS.sde\sde_image.DBO.M_G_KING_1876;C:\VESTRA_Install\SDE_Connections\cobgisbev1.SDE_Image.GIS.sde\sde_image.DBO.ORTHO_20011015_RGB15CM;C:\VESTRA_Install\SDE_Connections\cobgisbev1.SDE_Image.GIS.sde\sde_image.DBO.ORTHO_20020716_RGB15CM GIS_Reader GRANT #</Process>
</lineage>
</DataProperties>
<SyncDate>20180122</SyncDate>
<SyncTime>15152400</SyncTime>
<ModDate>20180122</ModDate>
<ModTime>15152400</ModTime>
</Esri>
<dataIdInfo>
<envirDesc Sync="TRUE"> Version 6.2 (Build 9200) ; Esri ArcGIS 10.4.0.5524</envirDesc>
<dataLang>
<languageCode Sync="TRUE" value="eng"/>
<countryCode Sync="TRUE" value="USA"/>
</dataLang>
<idCitation>
<resTitle Sync="TRUE">ORTHOPHOTO_2014_4in</resTitle>
<presForm>
<PresFormCd Sync="TRUE" value="011"/>
</presForm>
</idCitation>
<spatRpType>
<SpatRepTypCd Sync="TRUE" value="002"/>
</spatRpType>
<dataExt>
<geoEle>
<GeoBndBox esriExtentType="search">
<exTypeCode Sync="TRUE">1</exTypeCode>
<westBL Sync="TRUE">-122.349282</westBL>
<eastBL Sync="TRUE">-122.159869</eastBL>
<northBL Sync="TRUE">37.917873</northBL>
<southBL Sync="TRUE">37.805474</southBL>
</GeoBndBox>
</geoEle>
</dataExt>
<idAbs/>
<searchKeys>
<keyword>Orthophoto</keyword>
<keyword>2014</keyword>
<keyword>4in</keyword>
</searchKeys>
<idPurp/>
<idCredit/>
<resConst>
<Consts>
<useLimit/>
</Consts>
</resConst>
</dataIdInfo>
<mdLang>
<languageCode Sync="TRUE" value="eng"/>
<countryCode Sync="TRUE" value="USA"/>
</mdLang>
<mdChar>
<CharSetCd Sync="TRUE" value="004"/>
</mdChar>
<distInfo>
<distFormat>
<formatName Sync="TRUE">SDE Raster Dataset</formatName>
</distFormat>
</distInfo>
<mdHrLv>
<ScopeCd Sync="TRUE" value="005"/>
</mdHrLv>
<mdHrLvName Sync="TRUE">dataset</mdHrLvName>
<refSysInfo>
<RefSystem>
<refSysID>
<identCode Sync="TRUE" code="32610"/>
<idCodeSpace Sync="TRUE">EPSG</idCodeSpace>
<idVersion Sync="TRUE">2.1(3.0.1)</idVersion>
</refSysID>
</RefSystem>
</refSysInfo>
<spdoinfo>
<rastinfo>
<rasttype Sync="TRUE">Pixel</rasttype>
<rowcount Sync="TRUE">121450</rowcount>
<colcount Sync="TRUE">163031</colcount>
<rastxsz Sync="TRUE">0.101600</rastxsz>
<rastysz Sync="TRUE">0.101600</rastysz>
<rastbpp Sync="TRUE">8</rastbpp>
<vrtcount Sync="TRUE">1</vrtcount>
<rastorig Sync="TRUE">Upper Left</rastorig>
<rastcmap Sync="TRUE">FALSE</rastcmap>
<rastcomp Sync="TRUE">LZ77</rastcomp>
<rastband Sync="TRUE">3</rastband>
<rastdtyp Sync="TRUE">pixel codes</rastdtyp>
<rastifor Sync="TRUE">SDR</rastifor>
<rastplyr Sync="TRUE">TRUE</rastplyr>
</rastinfo>
</spdoinfo>
<spref>
<horizsys>
<planar>
<planci>
<plance Sync="TRUE">row and column</plance>
<coordrep>
<absres Sync="TRUE">0.101600</absres>
<ordres Sync="TRUE">0.101600</ordres>
</coordrep>
</planci>
</planar>
</horizsys>
</spref>
<mdDateSt Sync="TRUE">20180122</mdDateSt>
<spatRepInfo>
<Georect>
<cellGeo>
<CellGeoCd Sync="TRUE" value="002"/>
</cellGeo>
<numDims Sync="TRUE">2</numDims>
<tranParaAv Sync="TRUE">1</tranParaAv>
<chkPtAv Sync="TRUE">0</chkPtAv>
<cornerPts>
<pos Sync="TRUE">6028495.180433 2121435.307891</pos>
</cornerPts>
<cornerPts>
<pos Sync="TRUE">6028495.180433 2160517.974167</pos>
</cornerPts>
<cornerPts>
<pos Sync="TRUE">6081828.179900 2160517.974167</pos>
</cornerPts>
<cornerPts>
<pos Sync="TRUE">6081828.179900 2121435.307891</pos>
</cornerPts>
<centerPt>
<pos Sync="TRUE">6055161.680167 2140976.641029</pos>
</centerPt>
<axisDimension type="002">
<dimSize Sync="TRUE">159999</dimSize>
<dimResol>
<value Sync="TRUE" uom="Foot_US">0.333333</value>
</dimResol>
</axisDimension>
<axisDimension type="001">
<dimSize Sync="TRUE">117248</dimSize>
<dimResol>
<value Sync="TRUE" uom="Foot_US">0.333333</value>
</dimResol>
</axisDimension>
<ptInPixel>
<PixOrientCd Sync="TRUE" value="001"/>
</ptInPixel>
</Georect>
</spatRepInfo>
<contInfo>
<ImgDesc>
<contentTyp>
<ContentTypCd Sync="TRUE" value="001"/>
</contentTyp>
<covDim>
<Band>
<dimDescrp Sync="TRUE">Band_1</dimDescrp>
<bitsPerVal Sync="TRUE">8</bitsPerVal>
<valUnit>
<UOM type="length"/>
</valUnit>
</Band>
<Band>
<dimDescrp Sync="TRUE">Band_2</dimDescrp>
<bitsPerVal Sync="TRUE">8</bitsPerVal>
<valUnit>
<UOM type="length"/>
</valUnit>
</Band>
<Band>
<dimDescrp Sync="TRUE">Band_3</dimDescrp>
<bitsPerVal Sync="TRUE">8</bitsPerVal>
<valUnit>
<UOM type="length"/>
</valUnit>
</Band>
</covDim>
</ImgDesc>
</contInfo>
</metadata>
