<?xml version="1.0" encoding="UTF-8" standalone="no"?>
<metadata xml:lang="en">
<Esri>
<CreaDate>20180119</CreaDate>
<CreaTime>16384200</CreaTime>
<ArcGISFormat>1.0</ArcGISFormat>
<ArcGISstyle>FGDC CSDGM Metadata</ArcGISstyle>
<SyncOnce>FALSE</SyncOnce>
<DataProperties>
<itemProps>
<itemName Sync="TRUE">sde_image.DBO.ORTHO_2017_3in</itemName>
<nativeExtBox>
<westBL Sync="TRUE">6034403.233267</westBL>
<eastBL Sync="TRUE">6065327.483267</eastBL>
<southBL Sync="TRUE">2132640.485139</southBL>
<northBL Sync="TRUE">2160718.235139</northBL>
<exTypeCode Sync="TRUE">1</exTypeCode>
</nativeExtBox>
<itemLocation>
<linkage Sync="TRUE">Server=cobgisbev1; Service=sde:sqlserver:cobgisbev1; Database=sde_image; Version=dbo.DEFAULT</linkage>
<protocol Sync="TRUE">ArcSDE Connection</protocol>
</itemLocation>
<imsContentType Sync="TRUE">002</imsContentType>
</itemProps>
<coordRef>
<type Sync="TRUE">Projected</type>
<geogcsn Sync="TRUE">GCS_North_American_1983</geogcsn>
<csUnits Sync="TRUE">Linear Unit: Foot_US (0.304801)</csUnits>
<projcsn Sync="TRUE">NAD_1983_StatePlane_California_III_FIPS_0403_Feet</projcsn>
<peXml Sync="TRUE">&lt;ProjectedCoordinateSystem xsi:type='typens:ProjectedCoordinateSystem' xmlns:xsi='http://www.w3.org/2001/XMLSchema-instance' xmlns:xs='http://www.w3.org/2001/XMLSchema' xmlns:typens='http://www.esri.com/schemas/ArcGIS/10.8'&gt;&lt;WKT&gt;PROJCS[&amp;quot;NAD_1983_StatePlane_California_III_FIPS_0403_Feet&amp;quot;,GEOGCS[&amp;quot;GCS_North_American_1983&amp;quot;,DATUM[&amp;quot;D_North_American_1983&amp;quot;,SPHEROID[&amp;quot;GRS_1980&amp;quot;,6378137.0,298.257222101]],PRIMEM[&amp;quot;Greenwich&amp;quot;,0.0],UNIT[&amp;quot;Degree&amp;quot;,0.0174532925199433]],PROJECTION[&amp;quot;Lambert_Conformal_Conic&amp;quot;],PARAMETER[&amp;quot;False_Easting&amp;quot;,6561666.666666666],PARAMETER[&amp;quot;False_Northing&amp;quot;,1640416.666666667],PARAMETER[&amp;quot;Central_Meridian&amp;quot;,-120.5],PARAMETER[&amp;quot;Standard_Parallel_1&amp;quot;,37.06666666666667],PARAMETER[&amp;quot;Standard_Parallel_2&amp;quot;,38.43333333333333],PARAMETER[&amp;quot;Latitude_Of_Origin&amp;quot;,36.5],UNIT[&amp;quot;Foot_US&amp;quot;,0.3048006096012192],AUTHORITY[&amp;quot;EPSG&amp;quot;,2227]]&lt;/WKT&gt;&lt;XOrigin&gt;-115860600&lt;/XOrigin&gt;&lt;YOrigin&gt;-93269500&lt;/YOrigin&gt;&lt;XYScale&gt;36787427.345686711&lt;/XYScale&gt;&lt;ZOrigin&gt;-100000&lt;/ZOrigin&gt;&lt;ZScale&gt;10000&lt;/ZScale&gt;&lt;MOrigin&gt;-100000&lt;/MOrigin&gt;&lt;MScale&gt;10000&lt;/MScale&gt;&lt;XYTolerance&gt;0.0032808333333333331&lt;/XYTolerance&gt;&lt;ZTolerance&gt;0.00020000000000000001&lt;/ZTolerance&gt;&lt;MTolerance&gt;0.00020000000000000001&lt;/MTolerance&gt;&lt;HighPrecision&gt;true&lt;/HighPrecision&gt;&lt;WKID&gt;102643&lt;/WKID&gt;&lt;LatestWKID&gt;2227&lt;/LatestWKID&gt;&lt;/ProjectedCoordinateSystem&gt;</peXml>
</coordRef>
<lineage>
<Process Date="20190508" Time="082702" ToolSource="c:\program files (x86)\arcgis\desktop10.5\ArcToolbox\Toolboxes\Data Management Tools.tbx\ChangePrivileges">ChangePrivileges C:\VESTRA_Install\SDE_Connections\cobgisbev1.SDE_Image.GIS.sde\sde_image.DBO.SHADE_200305051742;C:\VESTRA_Install\SDE_Connections\cobgisbev1.SDE_Image.GIS.sde\sde_image.DBO.SHADE_20060701_30CM;C:\VESTRA_Install\SDE_Connections\cobgisbev1.SDE_Image.GIS.sde\sde_image.DBO.SHADE_290_18_7M8B;C:\VESTRA_Install\SDE_Connections\cobgisbev1.SDE_Image.GIS.sde\sde_image.DBO.SHADE_ALCO_290_11;C:\VESTRA_Install\SDE_Connections\cobgisbev1.SDE_Image.GIS.sde\sde_image.DBO.SHADE_DEM7M_315_45;C:\VESTRA_Install\SDE_Connections\cobgisbev1.SDE_Image.GIS.sde\sde_image.DBO.SURF100_20060222;C:\VESTRA_Install\SDE_Connections\cobgisbev1.SDE_Image.GIS.sde\sde_image.DBO.SURF100_20060222_NAD83;C:\VESTRA_Install\SDE_Connections\cobgisbev1.SDE_Image.GIS.sde\sde_image.DBO.SWR50_20070227;C:\VESTRA_Install\SDE_Connections\cobgisbev1.SDE_Image.GIS.sde\sde_image.DBO.TOB_ENGR_1900;C:\VESTRA_Install\SDE_Connections\cobgisbev1.SDE_Image.GIS.sde\sde_image.DBO.U_1993_98_DOQ12K;C:\VESTRA_Install\SDE_Connections\cobgisbev1.SDE_Image.GIS.sde\sde_image.DBO.U84_TOPO15_1895_1897_3500PX;C:\VESTRA_Install\SDE_Connections\cobgisbev1.SDE_Image.GIS.sde\sde_image.DBO.UCB_SOULE_1875;C:\VESTRA_Install\SDE_Connections\cobgisbev1.SDE_Image.GIS.sde\sde_image.DBO.USCS_NO25_1856;C:\VESTRA_Install\SDE_Connections\cobgisbev1.SDE_Image.GIS.sde\sde_image.DBO.USCS_NO6_1852;C:\VESTRA_Install\SDE_Connections\cobgisbev1.SDE_Image.GIS.sde\sde_image.DBO.USCS_NO621_1859;C:\VESTRA_Install\SDE_Connections\cobgisbev1.SDE_Image.GIS.sde\sde_image.DBO.USGS_DRG24K_TOPO;C:\VESTRA_Install\SDE_Connections\cobgisbev1.SDE_Image.GIS.sde\sde_image.DBO.USGS_MF2378_2379_LINEAR;C:\VESTRA_Install\SDE_Connections\cobgisbev1.SDE_Image.GIS.sde\sde_image.DBO.USGS_MF2385_LOG2;C:\VESTRA_Install\SDE_Connections\cobgisbev1.SDE_Image.GIS.sde\sde_image.DBO.USGS_OF02_296_LQF_5M;C:\VESTRA_Install\SDE_Connections\cobgisbev1.SDE_Image.GIS.sde\sde_image.DBO.USGS_OF02_296_VS30_30M;C:\VESTRA_Install\SDE_Connections\cobgisbev1.SDE_Image.GIS.sde\sde_image.DBO.USGS_OF98_766_SLOPE_30M;C:\VESTRA_Install\SDE_Connections\cobgisbev1.SDE_Image.GIS.sde\sde_image.DBO.USGS_TOPO_O37122G2;C:\VESTRA_Install\SDE_Connections\cobgisbev1.SDE_Image.GIS.sde\sde_image.DBO.USGS_TOPO_O37122G3;C:\VESTRA_Install\SDE_Connections\cobgisbev1.SDE_Image.GIS.sde\sde_image.DBO.USGS_TOPO_O37122H2;C:\VESTRA_Install\SDE_Connections\cobgisbev1.SDE_Image.GIS.sde\sde_image.DBO.USGS_TOPO_O37122H3;C:\VESTRA_Install\SDE_Connections\cobgisbev1.SDE_Image.GIS.sde\sde_image.DBO.SHADE_060_25;C:\VESTRA_Install\SDE_Connections\cobgisbev1.SDE_Image.GIS.sde\sde_image.DBO.PGE_OVRHEAD_200507;C:\VESTRA_Install\SDE_Connections\cobgisbev1.SDE_Image.GIS.sde\sde_image.DBO.PGE_ELECTROLIER_200507;C:\VESTRA_Install\SDE_Connections\cobgisbev1.SDE_Image.GIS.sde\sde_image.DBO.PAN15CM_19991114;C:\VESTRA_Install\SDE_Connections\cobgisbev1.SDE_Image.GIS.sde\sde_image.DBO.PAN15CM_19960816;C:\VESTRA_Install\SDE_Connections\cobgisbev1.SDE_Image.GIS.sde\sde_image.DBO.ORTHO_2017_3in;C:\VESTRA_Install\SDE_Connections\cobgisbev1.SDE_Image.GIS.sde\sde_image.DBO.ORTHO_2014_4in_L2CAL3F83;C:\VESTRA_Install\SDE_Connections\cobgisbev1.SDE_Image.GIS.sde\sde_image.DBO.ORTHO_2014_4in;C:\VESTRA_Install\SDE_Connections\cobgisbev1.SDE_Image.GIS.sde\sde_image.DBO.ORTHO_20110420_RGB30CM_NAD83;C:\VESTRA_Install\SDE_Connections\cobgisbev1.SDE_Image.GIS.sde\sde_image.DBO.ORTHO_20110420_RGB30CM;C:\VESTRA_Install\SDE_Connections\cobgisbev1.SDE_Image.GIS.sde\sde_image.DBO.ORTHO_20090630_RGB30CM_NAD83;C:\VESTRA_Install\SDE_Connections\cobgisbev1.SDE_Image.GIS.sde\sde_image.DBO.ORTHO_20090630_RGB30CM;C:\VESTRA_Install\SDE_Connections\cobgisbev1.SDE_Image.GIS.sde\sde_image.DBO.ORTHO_20060701_RGB10CM;C:\VESTRA_Install\SDE_Connections\cobgisbev1.SDE_Image.GIS.sde\sde_image.DBO.ORTHO_200507_RGB100CM;C:\VESTRA_Install\SDE_Connections\cobgisbev1.SDE_Image.GIS.sde\sde_image.DBO.ORTHO_20031025_RGB30CM;C:\VESTRA_Install\SDE_Connections\cobgisbev1.SDE_Image.GIS.sde\sde_image.DBO.DigitalGlobe20140101_tif;C:\VESTRA_Install\SDE_Connections\cobgisbev1.SDE_Image.GIS.sde\sde_image.DBO.FIRM_1978_90CM;C:\VESTRA_Install\SDE_Connections\cobgisbev1.SDE_Image.GIS.sde\sde_image.DBO.KELLERSBERGER_1857;C:\VESTRA_Install\SDE_Connections\cobgisbev1.SDE_Image.GIS.sde\sde_image.DBO.KROPP_LS_1995;C:\VESTRA_Install\SDE_Connections\cobgisbev1.SDE_Image.GIS.sde\sde_image.DBO.LANDUSE_1976_8CM;C:\VESTRA_Install\SDE_Connections\cobgisbev1.SDE_Image.GIS.sde\sde_image.DBO.LULC_Classification2014JAN;C:\VESTRA_Install\SDE_Connections\cobgisbev1.SDE_Image.GIS.sde\sde_image.DBO.M_G_KING_1876;C:\VESTRA_Install\SDE_Connections\cobgisbev1.SDE_Image.GIS.sde\sde_image.DBO.ORTHO_20011015_RGB15CM;C:\VESTRA_Install\SDE_Connections\cobgisbev1.SDE_Image.GIS.sde\sde_image.DBO.ORTHO_20020716_RGB15CM GIS_Reader GRANT #</Process>
</lineage>
</DataProperties>
<SyncDate>20210119</SyncDate>
<SyncTime>10014200</SyncTime>
<ModDate>20210119</ModDate>
<ModTime>10014200</ModTime>
<scaleRange>
<minScale>150000000</minScale>
<maxScale>5000</maxScale>
</scaleRange>
<ArcGISProfile>FGDC</ArcGISProfile>
</Esri>
<mdLang>
<languageCode value="eng"/>
<countryCode Sync="TRUE" value="USA"/>
</mdLang>
<mdChar>
<CharSetCd value="004"/>
</mdChar>
<mdHrLv>
<ScopeCd value="005"/>
</mdHrLv>
<mdStanName>ArcGIS Metadata</mdStanName>
<mdStanVer>1.0</mdStanVer>
<dataIdInfo>
<envirDesc Sync="TRUE"> Version 6.2 (Build 9200) ; Esri ArcGIS 10.8.1.14362</envirDesc>
<dataLang>
<languageCode Sync="TRUE" value="eng"/>
<countryCode Sync="TRUE" value="USA"/>
</dataLang>
<idCitation>
<resTitle Sync="TRUE">ORTHOPHOTO_2017_3in</resTitle>
<presForm>
<PresFormCd Sync="TRUE" value="011"/>
</presForm>
</idCitation>
<spatRpType>
<SpatRepTypCd Sync="TRUE" value="002"/>
</spatRpType>
<dataExt>
<geoEle>
<GeoBndBox esriExtentType="search">
<exTypeCode Sync="TRUE">1</exTypeCode>
<westBL Sync="TRUE">-122.327862</westBL>
<eastBL Sync="TRUE">-122.218895</eastBL>
<northBL Sync="TRUE">37.916430</northBL>
<southBL Sync="TRUE">37.837725</southBL>
</GeoBndBox>
</geoEle>
</dataExt>
<idPurp>Aerial photo of Berkeley taken on July 20, 2017</idPurp>
<idAbs>&lt;DIV STYLE="text-align:Left;"&gt;&lt;DIV&gt;&lt;P&gt;&lt;SPAN&gt;Mosaic of aerial photo tiles taken on July 20, 2017 by EagleView for their Pictometry products. Provided by Alameda County ITD through cost sharing agreement&lt;/SPAN&gt;&lt;/P&gt;&lt;/DIV&gt;&lt;/DIV&gt;</idAbs>
<searchKeys>
<keyword>Aerial</keyword>
<keyword>Pictometry</keyword>
<keyword>Mosaic</keyword>
<keyword>Alameda County</keyword>
<keyword>Orthophoto</keyword>
<keyword>2017</keyword>
<keyword>3in</keyword>
</searchKeys>
<idCredit/>
<resConst>
<Consts>
<useLimit/>
</Consts>
</resConst>
</dataIdInfo>
<distInfo>
<distFormat>
<formatName Sync="TRUE">SDE Raster Dataset</formatName>
</distFormat>
</distInfo>
<mdHrLvName Sync="TRUE">dataset</mdHrLvName>
<refSysInfo>
<RefSystem>
<refSysID>
<identCode Sync="TRUE" code="2227"/>
<idCodeSpace Sync="TRUE">EPSG</idCodeSpace>
<idVersion Sync="TRUE">5.3(9.0.0)</idVersion>
</refSysID>
</RefSystem>
</refSysInfo>
<spdoinfo>
<rastinfo>
<rasttype Sync="TRUE">Pixel</rasttype>
<rowcount Sync="TRUE">112311</rowcount>
<colcount Sync="TRUE">123697</colcount>
<rastxsz Sync="TRUE">0.250000</rastxsz>
<rastysz Sync="TRUE">0.250000</rastysz>
<rastbpp Sync="TRUE">8</rastbpp>
<vrtcount Sync="TRUE">1</vrtcount>
<rastorig Sync="TRUE">Upper Left</rastorig>
<rastcmap Sync="TRUE">FALSE</rastcmap>
<rastcomp Sync="TRUE">LZ77</rastcomp>
<rastband Sync="TRUE">4</rastband>
<rastdtyp Sync="TRUE">pixel codes</rastdtyp>
<rastifor Sync="TRUE">SDR</rastifor>
<rastplyr Sync="TRUE">TRUE</rastplyr>
</rastinfo>
</spdoinfo>
<spref>
<horizsys>
<planar>
<planci>
<plance Sync="TRUE">row and column</plance>
<coordrep>
<absres Sync="TRUE">0.250000</absres>
<ordres Sync="TRUE">0.250000</ordres>
</coordrep>
</planci>
</planar>
</horizsys>
</spref>
<mdDateSt Sync="TRUE">20210119</mdDateSt>
</metadata>
