{
 "currentVersion": 11.3,
 "serviceDescription": "Imagery/ORTHOPHOTO_2020_1m",
 "name": "Imagery/ORTHOPHOTO_2020_1m",
 "description": "",
 "extent": {
  "xmin": 6018058.830011087,
  "ymin": 2133437.334193168,
  "xmax": 6078170.258283339,
  "ymax": 2159116.4166670754,
  "spatialReference": {
   "wkid": 102643,
   "latestWkid": 2227
  }
 },
 "initialExtent": {
  "xmin": 6018058.830011087,
  "ymin": 2133437.334193168,
  "xmax": 6078170.258283339,
  "ymax": 2159116.4166670754,
  "spatialReference": {
   "wkid": 102643,
   "latestWkid": 2227
  }
 },
 "fullExtent": {
  "xmin": 6018058.830011087,
  "ymin": 2133437.334193168,
  "xmax": 6078170.258283339,
  "ymax": 2159116.4166670754,
  "spatialReference": {
   "wkid": 102643,
   "latestWkid": 2227
  }
 },
 "sortableFields": "",
 "bandCount": 3,
 "pixelType": "U8",
 "minValues": [
  0,
  0,
  0
 ],
 "maxValues": [
  255,
  255,
  255
 ],
 "meanValues": [
  169.8877416128854,
  167.78866680026522,
  159.58039499102637
 ],
 "stdvValues": [
  67.27238701720809,
  68.10259204556391,
  74.65721793138573
 ],
 "hasMultidimensions": false,
 "pixelSizeX": 3.2808333299996124,
 "pixelSizeY": 3.2808333299996364,
 "meanPixelSize": 0.9999999989838836,
 "datasetFormat": "SDR",
 "uncompressedSize": 430218882,
 "blockWidth": 128,
 "blockHeight": 128,
 "compressionType": "NONE",
 "bandNames": [
  "Band_1",
  "Band_2",
  "Band_3"
 ],
 "allowCopy": true,
 "allowAnalysis": true,
 "itemAccess": false,
 "inspectionCapabilities": "",
 "minPixelSize": 0,
 "maxPixelSize": 0,
 "copyrightText": "",
 "serviceDataType": "esriImageServiceDataTypeProcessed",
 "serviceSourceType": "esriImageServiceSourceTypeDataset",
 "objectIdField": "",
 "fields": [],
 "capabilities": "Image,Metadata,Mensuration",
 "defaultMosaicMethod": "Center",
 "allowedMosaicMethods": "",
 "sortField": "",
 "sortValue": null,
 "sortAscending": true,
 "mosaicOperator": "First",
 "defaultCompressionQuality": 75,
 "defaultResamplingMethod": "Bilinear",
 "maxImageHeight": 4100,
 "maxImageWidth": 15000,
 "allowRasterFunction": true,
 "rasterFunctionInfos": [
  {
   "name": "None",
   "description": "",
   "help": ""
  }
 ],
 "rasterTypeInfos": [
  {
   "name": "Raster Dataset",
   "description": "Supports all ArcGIS Raster Datasets",
   "help": ""
  }
 ],
 "mensurationCapabilities": "Basic",
 "hasHistograms": true,
 "hasColormap": false,
 "hasRasterAttributeTable": false,
 "minScale": 0,
 "maxScale": 0,
 "exportTilesAllowed": false,
 "supportsStatistics": false,
 "supportsAdvancedQueries": false,
 "editFieldsInfo": null,
 "ownershipBasedAccessControlForRasters": null,
 "allowComputeTiePoints": false,
 "useStandardizedQueries": true,
 "advancedQueryCapabilities": {
  "useStandardizedQueries": true,
  "supportsStatistics": false,
  "supportsOrderBy": false,
  "supportsDistinct": false,
  "supportsPagination": false
 },
 "spatialReference": {
  "wkid": 102643,
  "latestWkid": 2227
 }
}
