View In:
ArcGIS JavaScript
ArcGIS Online Map Viewer
ArcGIS Earth
Service Description: Imagery/ORTHOPHOTO_2014_4in
Name: Imagery/ORTHOPHOTO_2014_4in
Description:
Single Fused Map Cache: false
Extent:
XMin: 557281.2834611195
YMin: 4184563.738199356
XMax: 573845.2660234451
YMax: 4196903.082754652
Spatial Reference: 32610
(32610)
Initial Extent:
XMin: 557281.2834611195
YMin: 4184563.738199356
XMax: 573845.2660234451
YMax: 4196903.082754652
Spatial Reference: 32610
(32610)
Full Extent:
XMin: 557281.2834611195
YMin: 4184563.738199356
XMax: 573845.2660234451
YMax: 4196903.082754652
Spatial Reference: 32610
(32610)
Pixel Size X: 0.10160020218440385
Pixel Size Y: 0.10160020218440513
Band Count: 3
Pixel Type: U8
RasterFunction Infos: {"rasterFunctionInfos": [{
"name": "None",
"description": "",
"help": ""
}]}
Mensuration Capabilities: Basic
Inspection Capabilities:
Has Histograms: true
Has Colormap: false
Has Multi Dimensions : false
Rendering Rule:
Min Scale: 0
Max Scale: 0
Copyright Text:
Service Data Type: esriImageServiceDataTypeRGB
Min Values: 0, 0, 0
Max Values: 255, 255, 255
Mean Values: 155.92121848336078, 154.9990444908219, 148.45443037099406
Standard Deviation Values: 73.05778495771901, 72.97348642433245, 76.90424046148094
Object ID Field:
Fields:
None
Default Mosaic Method: Center
Allowed Mosaic Methods:
SortField:
SortValue: null
Mosaic Operator: First
Default Compression Quality: 75
Default Resampling Method: Bilinear
Max Record Count: null
Max Image Height: 4100
Max Image Width: 15000
Max Download Image Count: null
Max Mosaic Image Count: null
Allow Raster Function: true
Allow Copy: true
Allow Analysis: true
Allow Compute TiePoints: false
Supports Statistics: false
Supports Advanced Queries: false
Use StandardizedQueries: true
Raster Type Infos:
Name: Raster Dataset
Description: Supports all ArcGIS Raster Datasets
Help:
Has Raster Attribute Table: false
Edit Fields Info: null
Ownership Based AccessControl For Rasters: null
Child Resources:
Info
Histograms
Statistics
Key Properties
Legend
Raster Function Infos
Supported Operations:
Export Image
Identify
Measure
Compute Histograms
Compute Statistics Histograms
Get Samples
Compute Class Statistics
Query Boundary
Compute Pixel Location
Compute Angles
Validate
Project