View In:
ArcGIS JavaScript
ArcGIS Online Map Viewer
ArcGIS Earth
Service Description: Imagery/ORTHOPHOTO_2017_3in
Name: Imagery/ORTHOPHOTO_2017_3in
Description:
Single Fused Map Cache: false
Extent:
XMin: 6034403.233267357
YMin: 2132640.4851387804
XMax: 6065327.483267357
YMax: 2160718.2351387804
Spatial Reference: 102643
(2227)
Initial Extent:
XMin: 6034403.233267357
YMin: 2132640.4851387804
XMax: 6065327.483267357
YMax: 2160718.2351387804
Spatial Reference: 102643
(2227)
Full Extent:
XMin: 6034403.233267357
YMin: 2132640.4851387804
XMax: 6065327.483267357
YMax: 2160718.2351387804
Spatial Reference: 102643
(2227)
Pixel Size X: 0.25
Pixel Size Y: 0.25
Band Count: 4
Pixel Type: U8
RasterFunction Infos: {"rasterFunctionInfos": [{
"name": "None",
"description": "",
"help": ""
}]}
Mensuration Capabilities: Basic
Inspection Capabilities:
Has Histograms: true
Has Colormap: false
Has Multi Dimensions : false
Rendering Rule:
Min Scale: 0
Max Scale: 0
Copyright Text:
Service Data Type: esriImageServiceDataTypeGeneric
Min Values: 0, 0, 0, 0
Max Values: 255, 255, 255, 255
Mean Values: 110.25570237608046, 109.87662112356556, 102.02980652202194, 133.7752518762332
Standard Deviation Values: 60.917806309418914, 59.31716039671265, 58.16000068382967, 83.9533861167453
Object ID Field:
Fields:
None
Default Mosaic Method: Center
Allowed Mosaic Methods:
SortField:
SortValue: null
Mosaic Operator: First
Default Compression Quality: 75
Default Resampling Method: Bilinear
Max Record Count: null
Max Image Height: 4100
Max Image Width: 15000
Max Download Image Count: null
Max Mosaic Image Count: null
Allow Raster Function: true
Allow Copy: true
Allow Analysis: true
Allow Compute TiePoints: false
Supports Statistics: false
Supports Advanced Queries: false
Use StandardizedQueries: true
Raster Type Infos:
Name: Raster Dataset
Description: Supports all ArcGIS Raster Datasets
Help:
Has Raster Attribute Table: false
Edit Fields Info: null
Ownership Based AccessControl For Rasters: null
Child Resources:
Info
Histograms
Statistics
Key Properties
Legend
Raster Function Infos
Supported Operations:
Export Image
Identify
Measure
Compute Histograms
Compute Statistics Histograms
Get Samples
Compute Class Statistics
Query Boundary
Compute Pixel Location
Compute Angles
Validate
Project