View In:
ArcGIS JavaScript
ArcGIS Online Map Viewer
ArcGIS Earth
Service Description: The dataset consists of tiled orthogonal imagery produced from nadir images captured by Pictometry International.
Name: Imagery/ORTHOPHOTO_2020_3in
Description: The dataset consists of tiled orthogonal imagery produced from nadir images captured by Pictometry International.
Single Fused Map Cache: false
Extent:
XMin: 6018059.75
YMin: 2133440.25
XMax: 6078169.75
YMax: 2159116.5
Spatial Reference: 102643
(2227)
Initial Extent:
XMin: 6018059.75
YMin: 2133440.25
XMax: 6078169.75
YMax: 2159116.5
Spatial Reference: 102643
(2227)
Full Extent:
XMin: 6018059.75
YMin: 2133440.25
XMax: 6078169.75
YMax: 2159116.5
Spatial Reference: 102643
(2227)
Pixel Size X: 0.25
Pixel Size Y: 0.25
Band Count: 3
Pixel Type: U8
RasterFunction Infos: {"rasterFunctionInfos": [{
"name": "None",
"description": "",
"help": ""
}]}
Mensuration Capabilities: Basic
Inspection Capabilities:
Has Histograms: true
Has Colormap: false
Has Multi Dimensions : false
Rendering Rule:
Min Scale: 0
Max Scale: 0
Resampling: false
Copyright Text: City of Berkeley
Service Data Type: esriImageServiceDataTypeProcessed
Min Values: 0, 0, 0
Max Values: 255, 255, 255
Mean Values: 169.30932925317188, 167.33232546460678, 159.1078628709898
Standard Deviation Values: 70.67728705254719, 71.23264110900752, 77.36112495012493
Object ID Field:
Fields:
None
Default Mosaic Method: Center
Allowed Mosaic Methods:
SortField:
SortValue: null
Mosaic Operator: First
Default Compression Quality: 75
Default Resampling Method: Bilinear
Max Record Count: null
Max Image Height: 4100
Max Image Width: 15000
Max Download Image Count: null
Max Mosaic Image Count: null
Allow Raster Function: true
Allow Copy: true
Allow Analysis: true
Allow Compute TiePoints: false
Supports Statistics: false
Supports Advanced Queries: false
Use StandardizedQueries: true
Raster Type Infos:
Name: Raster Dataset
Description: Supports all ArcGIS Raster Datasets
Help:
Has Raster Attribute Table: false
Edit Fields Info: null
Ownership Based AccessControl For Rasters: null
Child Resources:
Info
Histograms
Statistics
Key Properties
Legend
Raster Function Infos
Supported Operations:
Export Image
Identify
Measure
Compute Histograms
Compute Statistics Histograms
Get Samples
Compute Class Statistics
Query Boundary
Compute Pixel Location
Compute Angles
Validate
Project