View In:
ArcGIS JavaScript
ArcGIS Online Map Viewer
ArcGIS Earth
Service Description: Imagery/ORTHOPHOTO_2020_1m
Name: Imagery/ORTHOPHOTO_2020_1m
Description:
Single Fused Map Cache: false
Extent:
XMin: 6018058.830011087
YMin: 2133437.334193168
XMax: 6078170.258283339
YMax: 2159116.4166670754
Spatial Reference: 102643
(2227)
Initial Extent:
XMin: 6018058.830011087
YMin: 2133437.334193168
XMax: 6078170.258283339
YMax: 2159116.4166670754
Spatial Reference: 102643
(2227)
Full Extent:
XMin: 6018058.830011087
YMin: 2133437.334193168
XMax: 6078170.258283339
YMax: 2159116.4166670754
Spatial Reference: 102643
(2227)
Pixel Size X: 3.2808333299996124
Pixel Size Y: 3.2808333299996364
Band Count: 3
Pixel Type: U8
RasterFunction Infos: {"rasterFunctionInfos": [{
"name": "None",
"description": "",
"help": ""
}]}
Mensuration Capabilities: Basic
Inspection Capabilities:
Has Histograms: true
Has Colormap: false
Has Multi Dimensions : false
Rendering Rule:
Min Scale: 0
Max Scale: 0
Copyright Text:
Service Data Type: esriImageServiceDataTypeProcessed
Min Values: 0, 0, 0
Max Values: 255, 255, 255
Mean Values: 169.8877416128854, 167.78866680026522, 159.58039499102637
Standard Deviation Values: 67.27238701720809, 68.10259204556391, 74.65721793138573
Object ID Field:
Fields:
None
Default Mosaic Method: Center
Allowed Mosaic Methods:
SortField:
SortValue: null
Mosaic Operator: First
Default Compression Quality: 75
Default Resampling Method: Bilinear
Max Record Count: null
Max Image Height: 4100
Max Image Width: 15000
Max Download Image Count: null
Max Mosaic Image Count: null
Allow Raster Function: true
Allow Copy: true
Allow Analysis: true
Allow Compute TiePoints: false
Supports Statistics: false
Supports Advanced Queries: false
Use StandardizedQueries: true
Raster Type Infos:
Name: Raster Dataset
Description: Supports all ArcGIS Raster Datasets
Help:
Has Raster Attribute Table: false
Edit Fields Info: null
Ownership Based AccessControl For Rasters: null
Child Resources:
Info
Histograms
Statistics
Key Properties
Legend
Raster Function Infos
Supported Operations:
Export Image
Identify
Measure
Compute Histograms
Compute Statistics Histograms
Get Samples
Compute Class Statistics
Query Boundary
Compute Pixel Location
Compute Angles
Validate
Project